View In:
ArcGIS JavaScript
ArcGIS Online Map Viewer
ArcGIS Earth
ArcMap
View Footprint In:
ArcGIS Online Map Viewer
Service Description: seNorgeGrid
Name: seNorgeGrid
Description: seNorgeGrid
Single Fused Map Cache: false
Extent:
XMin: -75000
YMin: 6450000
XMax: 1120000
YMax: 8000000
Spatial Reference: 32633
(32633)
Initial Extent:
XMin: -75000
YMin: 6450000
XMax: 1120000
YMax: 8000000
Spatial Reference: 32633
(32633)
Full Extent:
XMin: -75000
YMin: 6450000
XMax: 1120000
YMax: 8000000
Spatial Reference: 32633
(32633)
Pixel Size X: 1000.0
Pixel Size Y: 1000.0
Band Count: 1
Pixel Type: S32
RasterFunction Infos: {"rasterFunctionInfos": [
{
"name": "None",
"description": "A No-Op Function.",
"help": ""
},
{
"name": "sd",
"description": "A raster function sd.",
"help": ""
},
{
"name": "sdfsw",
"description": "A raster function sdfsw.",
"help": ""
},
{
"name": "swe",
"description": "A raster function swe.",
"help": ""
},
{
"name": "swechange7d",
"description": "A raster function swechange7d.",
"help": ""
},
{
"name": "windSpeed10m24h06",
"description": "A raster function windSpeed10m24h06.",
"help": ""
},
{
"name": "windDirection10m24h06",
"description": "A raster function windDirection10m24h06.",
"help": ""
},
{
"name": "windSpeed10m3h",
"description": "A raster function windSpeed10m3h.",
"help": ""
},
{
"name": "windDirection10m3h",
"description": "A raster function windDirection10m3h.",
"help": ""
},
{
"name": "tmyr30yr_19912020",
"description": "A raster function tmyr30yr_19912020.",
"help": ""
},
{
"name": "tmyr30yr_19712000",
"description": "A raster function tmyr30yr_19712000.",
"help": ""
},
{
"name": "tmgr",
"description": "A raster function tmgr.",
"help": ""
},
{
"name": "tm24h06",
"description": "A raster function tm24h06.",
"help": ""
},
{
"name": "tm3h",
"description": "A raster function tm3h.",
"help": ""
},
{
"name": "tm",
"description": "A raster function tm.",
"help": ""
},
{
"name": "swexyr30yr_19912020",
"description": "A raster function swexyr30yr_19912020.",
"help": ""
},
{
"name": "swexyr",
"description": "A raster function swexyr.",
"help": ""
},
{
"name": "swexmth",
"description": "A raster function swexmth.",
"help": ""
},
{
"name": "swerank",
"description": "A raster function swerank.",
"help": ""
},
{
"name": "swepr",
"description": "A raster function swepr.",
"help": ""
},
{
"name": "swe3h",
"description": "A raster function swe3h.",
"help": ""
},
{
"name": "sva_tm24h06",
"description": "A raster function sva_tm24h06.",
"help": ""
},
{
"name": "sva_tm3h",
"description": "A raster function sva_tm3h.",
"help": ""
},
{
"name": "sva_tm",
"description": "A raster function sva_tm.",
"help": ""
},
{
"name": "sva_swe3h",
"description": "A raster function sva_swe3h.",
"help": ""
},
{
"name": "sva_swe",
"description": "A raster function sva_swe.",
"help": ""
},
{
"name": "sva_sdfsw3h",
"description": "A raster function sva_sdfsw3h.",
"help": ""
},
{
"name": "sva_sdfsw",
"description": "A raster function sva_sdfsw.",
"help": ""
},
{
"name": "sva_sd",
"description": "A raster function sva_sd.",
"help": ""
},
{
"name": "sva_rr24h06",
"description": "A raster function sva_rr24h06.",
"help": ""
},
{
"name": "sva_rr3h",
"description": "A raster function sva_rr3h.",
"help": ""
},
{
"name": "sva_rr",
"description": "A raster function sva_rr.",
"help": ""
},
{
"name": "sva_qtt3h",
"description": "A raster function sva_qtt3h.",
"help": ""
},
{
"name": "sva_qtt",
"description": "A raster function sva_qtt.",
"help": ""
},
{
"name": "sva_qsw3h",
"description": "A raster function sva_qsw3h.",
"help": ""
},
{
"name": "sva_qsw",
"description": "A raster function sva_qsw.",
"help": ""
},
{
"name": "sva_lwc3h",
"description": "A raster function sva_lwc3h.",
"help": ""
},
{
"name": "sva_lwc",
"description": "A raster function sva_lwc.",
"help": ""
},
{
"name": "sva_fsw3h",
"description": "A raster function sva_fsw3h.",
"help": ""
},
{
"name": "sva_fsw",
"description": "A raster function sva_fsw.",
"help": ""
},
{
"name": "sdfsw3d",
"description": "A raster function sdfsw3d.",
"help": ""
},
{
"name": "sddmth",
"description": "A raster function sddmth.",
"help": ""
},
{
"name": "sda1",
"description": "A raster function sda1.",
"help": ""
},
{
"name": "snowload",
"description": "A raster function snowload.",
"help": ""
},
{
"name": "ski",
"description": "A raster function ski.",
"help": ""
},
{
"name": "seNorge2018_tm",
"description": "A raster function seNorge2018_tm.",
"help": ""
},
{
"name": "seNorge2018_swe",
"description": "A raster function seNorge2018_swe.",
"help": ""
},
{
"name": "seNorge2018_rr",
"description": "A raster function seNorge2018_rr.",
"help": ""
},
{
"name": "sdxyr30yr_19912020",
"description": "A raster function sdxyr30yr_19912020.",
"help": ""
},
{
"name": "sdxyr",
"description": "A raster function sdxyr.",
"help": ""
},
{
"name": "sdxmth",
"description": "A raster function sdxmth.",
"help": ""
},
{
"name": "sdnmth",
"description": "A raster function sdnmth.",
"help": ""
},
{
"name": "sdfsw3h",
"description": "A raster function sdfsw3h.",
"help": ""
},
{
"name": "rryr30yr_19912020",
"description": "A raster function rryr30yr_19912020.",
"help": ""
},
{
"name": "rryr30yr_19712000",
"description": "A raster function rryr30yr_19712000.",
"help": ""
},
{
"name": "rrprrrxm5",
"description": "A raster function rrprrrxm5.",
"help": ""
},
{
"name": "rrmix",
"description": "A raster function rrmix.",
"help": ""
},
{
"name": "rr3hprrr3hxm5",
"description": "A raster function rr3hprrr3hxm5.",
"help": ""
},
{
"name": "rr3h",
"description": "A raster function rr3h.",
"help": ""
},
{
"name": "rr3d",
"description": "A raster function rr3d.",
"help": ""
},
{
"name": "rr",
"description": "A raster function rr.",
"help": ""
},
{
"name": "qttyr",
"description": "A raster function qttyr.",
"help": ""
},
{
"name": "qttsdai",
"description": "A raster function qttsdai.",
"help": ""
},
{
"name": "qttmthcl",
"description": "A raster function qttmthcl.",
"help": ""
},
{
"name": "qttmth",
"description": "A raster function qttmth.",
"help": ""
},
{
"name": "qttls",
"description": "A raster function qttls.",
"help": ""
},
{
"name": "qtta1",
"description": "A raster function qtta1.",
"help": ""
},
{
"name": "qtt7d",
"description": "A raster function qtt7d.",
"help": ""
},
{
"name": "qtt3h",
"description": "A raster function qtt3h.",
"help": ""
},
{
"name": "qtt3dls",
"description": "A raster function qtt3dls.",
"help": ""
},
{
"name": "qtt",
"description": "A raster function qtt.",
"help": ""
},
{
"name": "qswenergy3h",
"description": "A raster function qswenergy3h.",
"help": ""
},
{
"name": "qswenergy",
"description": "A raster function qswenergy.",
"help": ""
},
{
"name": "qsw7d",
"description": "A raster function qsw7d.",
"help": ""
},
{
"name": "qsw3h",
"description": "A raster function qsw3h.",
"help": ""
},
{
"name": "qsw",
"description": "A raster function qsw.",
"help": ""
},
{
"name": "lwc3h",
"description": "A raster function lwc3h.",
"help": ""
},
{
"name": "lwc",
"description": "A raster function lwc.",
"help": ""
},
{
"name": "gwb_eva",
"description": "A raster function gwb_eva.",
"help": ""
},
{
"name": "gwb_swe",
"description": "A raster function gwb_swe.",
"help": ""
},
{
"name": "gwb_sssrel",
"description": "A raster function gwb_sssrel.",
"help": ""
},
{
"name": "gwb_sssdev",
"description": "A raster function gwb_sssdev.",
"help": ""
},
{
"name": "gwb_rr",
"description": "A raster function gwb_rr.",
"help": ""
},
{
"name": "gwb_qttprqttxyrx30yr",
"description": "A raster function gwb_qttprqttxyrx30yr.",
"help": ""
},
{
"name": "gwb_qtt3dprqtt3dxyrx30yr",
"description": "A raster function gwb_qtt3dprqtt3dxyrx30yr.",
"help": ""
},
{
"name": "gwb_qtt",
"description": "A raster function gwb_qtt.",
"help": ""
},
{
"name": "gwb_q",
"description": "A raster function gwb_q.",
"help": ""
},
{
"name": "gwb_landslideindex3",
"description": "A raster function gwb_landslideindex3.",
"help": ""
},
{
"name": "gwb_gwtdev",
"description": "A raster function gwb_gwtdev.",
"help": ""
},
{
"name": "gwb_gwtcl",
"description": "A raster function gwb_gwtcl.",
"help": ""
},
{
"name": "gwb_gwt",
"description": "A raster function gwb_gwt.",
"help": ""
},
{
"name": "gwb_frd",
"description": "A raster function gwb_frd.",
"help": ""
},
{
"name": "fswa1",
"description": "A raster function fswa1.",
"help": ""
},
{
"name": "fsw7d",
"description": "A raster function fsw7d.",
"help": ""
},
{
"name": "fsw3h",
"description": "A raster function fsw3h.",
"help": ""
},
{
"name": "fsw3da1",
"description": "A raster function fsw3da1.",
"help": ""
},
{
"name": "fsw",
"description": "A raster function fsw.",
"help": ""
},
{
"name": "fmqi",
"description": "A raster function fmqi.",
"help": ""
},
{
"name": "fmi10dqtt3di",
"description": "A raster function fmi10dqtt3di.",
"help": ""
},
{
"name": "depthHoarIndex2",
"description": "A raster function depthHoarIndex2.",
"help": ""
},
{
"name": "depthHoarIndex1",
"description": "A raster function depthHoarIndex1.",
"help": ""
},
{
"name": "daygt250sdyr",
"description": "A raster function daygt250sdyr.",
"help": ""
},
{
"name": "daygt250sdmth",
"description": "A raster function daygt250sdmth.",
"help": ""
},
{
"name": "daygt50sdyr",
"description": "A raster function daygt50sdyr.",
"help": ""
},
{
"name": "daygt50sdmth",
"description": "A raster function daygt50sdmth.",
"help": ""
},
{
"name": "dayeq0lwcmth",
"description": "A raster function dayeq0lwcmth.",
"help": ""
},
{
"name": "age",
"description": "A raster function age.",
"help": ""
},
{
"name": "additionalSnowDepth",
"description": "A raster function additionalSnowDepth.",
"help": ""
}
]}
Mensuration Capabilities: Basic
Has Histograms: false
Has Colormap: false
Has Multi Dimensions : false
Rendering Rule:
Min Scale: 0
Max Scale: 0
Copyright Text:
Edit Fields Info:
- Creation Date Field: CREATED_DATE
- Creator Field: CREATED_BY
- Edit Date Field: CHANGED_DATE
- Editor Field: CHANGED_BY
Ownership Based Access Control:
- Allow Others to Update: false
- Allow Others to Delete: false
Service Data Type: esriImageServiceDataTypeProcessed
Min Values: N/A
Max Values: N/A
Mean Values: N/A
Standard Deviation Values: N/A
Object ID Field: objectid
Fields:
-
objectid
(
type: esriFieldTypeOID, alias: objectid
)
-
name
(
type: esriFieldTypeString, alias: name, length: 200
)
-
minps
(
type: esriFieldTypeDouble, alias: minps
)
-
maxps
(
type: esriFieldTypeDouble, alias: maxps
)
-
lowps
(
type: esriFieldTypeDouble, alias: lowps
)
-
highps
(
type: esriFieldTypeDouble, alias: highps
)
-
category
(
type: esriFieldTypeInteger, alias: category
, Coded Values:
[0: Unknown]
, [1: Primary]
, [2: Overview]
, ...6 more...
)
-
tag
(
type: esriFieldTypeString, alias: tag, length: 100
)
-
groupname
(
type: esriFieldTypeString, alias: groupname, length: 100
)
-
productname
(
type: esriFieldTypeString, alias: productname, length: 100
)
-
centerx
(
type: esriFieldTypeDouble, alias: centerx
)
-
centery
(
type: esriFieldTypeDouble, alias: centery
)
-
zorder
(
type: esriFieldTypeInteger, alias: zorder
)
-
shape
(
type: esriFieldTypeGeometry, alias: shape
)
-
created_by
(
type: esriFieldTypeString, alias: created_by, length: 255
)
-
created_date
(
type: esriFieldTypeDate, alias: created_date, length: 8
)
-
changed_by
(
type: esriFieldTypeString, alias: changed_by, length: 255
)
-
changed_date
(
type: esriFieldTypeDate, alias: changed_date, length: 8
)
-
product
(
type: esriFieldTypeString, alias: product, length: 255
)
-
product_name
(
type: esriFieldTypeString, alias: product_name, length: 255
)
-
start_time
(
type: esriFieldTypeDate, alias: start_time, length: 8
)
-
end_time
(
type: esriFieldTypeDate, alias: end_time, length: 8
)
-
aggregation_period
(
type: esriFieldTypeString, alias: aggregation_period, length: 255
)
-
is_prognosis
(
type: esriFieldTypeSmallInteger, alias: is_prognosis
)
-
production_system_id
(
type: esriFieldTypeInteger, alias: production_system_id
)
-
production_time
(
type: esriFieldTypeDate, alias: production_time, length: 8
)
-
production_source_id
(
type: esriFieldTypeInteger, alias: production_source_id
)
-
st_area(shape)
(
type: esriFieldTypeDouble, alias: st_area(shape)
)
-
st_length(shape)
(
type: esriFieldTypeDouble, alias: st_length(shape)
)
Default Mosaic Method: Northwest
Allowed Mosaic Methods: NorthWest,LockRaster,ByAttribute
SortField:
SortValue: null
Mosaic Operator: First
Default Compression Quality: 90
Default Resampling Method: Nearest
Max Record Count: 1000
Max Image Height: 15000
Max Image Width: 15000
Max Download Image Count: 0
Max Mosaic Image Count: 1
Allow Raster Function: true
Allow Compute TiePoints: false
Supports Statistics: true
Supports Advanced Queries: true
Use StandardizedQueries: true
Raster Type Infos:
Name: Raster Dataset
Description: Supports all ArcGIS Raster Datasets
Help:
Has Raster Attribute Table: false
Edit Fields Info: {"creationDateField":"CREATED_DATE","creatorField":"CREATED_BY","editDateField":"CHANGED_DATE","editorField":"CHANGED_BY"}
Ownership Based AccessControl For Rasters: {"allowOthersToDelete":false,"allowOthersToUpdate":false}
Child Resources:
Info
Key Properties
Legend
MultiDimensionalInfo
rasterFunctionInfos
Supported Operations:
Export Image
Query
Identify
Measure
Compute Histograms
Compute Statistics Histograms
Get Samples
Compute Class Statistics
Query Boundary
Compute Pixel Location