{
 "currentVersion": 11.1,
 "serviceDescription": "seNorgeGrid",
 "name": "seNorgeGrid",
 "description": "seNorgeGrid",
 "extent": {
  "xmin": -75000,
  "ymin": 6450000,
  "xmax": 1120000,
  "ymax": 8000000,
  "spatialReference": {
   "wkid": 32633,
   "latestWkid": 32633
  }
 },
 "initialExtent": {
  "xmin": -75000,
  "ymin": 6450000,
  "xmax": 1120000,
  "ymax": 8000000,
  "spatialReference": {
   "wkid": 32633,
   "latestWkid": 32633
  }
 },
 "fullExtent": {
  "xmin": -75000,
  "ymin": 6450000,
  "xmax": 1120000,
  "ymax": 8000000,
  "spatialReference": {
   "wkid": 32633,
   "latestWkid": 32633
  }
 },
 "sortableFields": "",
 "bandCount": 1,
 "pixelType": "S32",
 "minValues": [],
 "maxValues": [],
 "meanValues": [],
 "stdvValues": [],
 "hasMultidimensions": false,
 "pixelSizeX": 1000,
 "pixelSizeY": 1000,
 "datasetFormat": "AMD",
 "uncompressedSize": 7409000,
 "blockWidth": 2048,
 "blockHeight": 256,
 "compressionType": "None",
 "bandNames": [
  "Band_1"
 ],
 "allowCopy": true,
 "allowAnalysis": true,
 "itemAccess": false,
 "minPixelSize": 0,
 "maxPixelSize": 0,
 "copyrightText": "",
 "serviceDataType": "esriImageServiceDataTypeProcessed",
 "serviceSourceType": "esriImageServiceSourceTypeMosaicDataset",
 "objectIdField": "objectid",
 "fields": [
  {
   "name": "objectid",
   "type": "esriFieldTypeOID",
   "alias": "objectid",
   "domain": null
  },
  {
   "name": "name",
   "type": "esriFieldTypeString",
   "alias": "name",
   "domain": null,
   "length": 200
  },
  {
   "name": "minps",
   "type": "esriFieldTypeDouble",
   "alias": "minps",
   "domain": null
  },
  {
   "name": "maxps",
   "type": "esriFieldTypeDouble",
   "alias": "maxps",
   "domain": null
  },
  {
   "name": "lowps",
   "type": "esriFieldTypeDouble",
   "alias": "lowps",
   "domain": null
  },
  {
   "name": "highps",
   "type": "esriFieldTypeDouble",
   "alias": "highps",
   "domain": null
  },
  {
   "name": "category",
   "type": "esriFieldTypeInteger",
   "alias": "category",
   "domain": {
    "type": "codedValue",
    "name": "MosaicCatalogItemCategoryDomain",
    "description": "Catalog item categories.",
    "codedValues": [
     {
      "name": "Unknown",
      "code": 0
     },
     {
      "name": "Primary",
      "code": 1
     },
     {
      "name": "Overview",
      "code": 2
     },
     {
      "name": "Unprocessed Overview",
      "code": 3
     },
     {
      "name": "Partial Overview",
      "code": 4
     },
     {
      "name": "Inactive",
      "code": 5
     },
     {
      "name": "Uploaded",
      "code": 253
     },
     {
      "name": "Incomplete",
      "code": 254
     },
     {
      "name": "Custom",
      "code": 255
     }
    ],
    "mergePolicy": "esriMPTDefaultValue",
    "splitPolicy": "esriSPTDefaultValue"
   }
  },
  {
   "name": "tag",
   "type": "esriFieldTypeString",
   "alias": "tag",
   "domain": null,
   "length": 100
  },
  {
   "name": "groupname",
   "type": "esriFieldTypeString",
   "alias": "groupname",
   "domain": null,
   "length": 100
  },
  {
   "name": "productname",
   "type": "esriFieldTypeString",
   "alias": "productname",
   "domain": null,
   "length": 100
  },
  {
   "name": "centerx",
   "type": "esriFieldTypeDouble",
   "alias": "centerx",
   "domain": null
  },
  {
   "name": "centery",
   "type": "esriFieldTypeDouble",
   "alias": "centery",
   "domain": null
  },
  {
   "name": "zorder",
   "type": "esriFieldTypeInteger",
   "alias": "zorder",
   "domain": null
  },
  {
   "name": "created_by",
   "type": "esriFieldTypeString",
   "alias": "created_by",
   "domain": null,
   "length": 255
  },
  {
   "name": "created_date",
   "type": "esriFieldTypeDate",
   "alias": "created_date",
   "domain": null,
   "length": 8
  },
  {
   "name": "changed_by",
   "type": "esriFieldTypeString",
   "alias": "changed_by",
   "domain": null,
   "length": 255
  },
  {
   "name": "changed_date",
   "type": "esriFieldTypeDate",
   "alias": "changed_date",
   "domain": null,
   "length": 8
  },
  {
   "name": "product",
   "type": "esriFieldTypeString",
   "alias": "product",
   "domain": null,
   "length": 255
  },
  {
   "name": "product_name",
   "type": "esriFieldTypeString",
   "alias": "product_name",
   "domain": null,
   "length": 255
  },
  {
   "name": "start_time",
   "type": "esriFieldTypeDate",
   "alias": "start_time",
   "domain": null,
   "length": 8
  },
  {
   "name": "end_time",
   "type": "esriFieldTypeDate",
   "alias": "end_time",
   "domain": null,
   "length": 8
  },
  {
   "name": "aggregation_period",
   "type": "esriFieldTypeString",
   "alias": "aggregation_period",
   "domain": null,
   "length": 255
  },
  {
   "name": "is_prognosis",
   "type": "esriFieldTypeSmallInteger",
   "alias": "is_prognosis",
   "domain": null
  },
  {
   "name": "production_system_id",
   "type": "esriFieldTypeInteger",
   "alias": "production_system_id",
   "domain": null
  },
  {
   "name": "production_time",
   "type": "esriFieldTypeDate",
   "alias": "production_time",
   "domain": null,
   "length": 8
  },
  {
   "name": "production_source_id",
   "type": "esriFieldTypeInteger",
   "alias": "production_source_id",
   "domain": null
  },
  {
   "name": "shape",
   "type": "esriFieldTypeGeometry",
   "alias": "shape",
   "domain": null
  },
  {
   "name": "st_area(shape)",
   "type": "esriFieldTypeDouble",
   "alias": "st_area(shape)",
   "domain": null
  }
 ],
 "capabilities": "Image,Metadata,Catalog,Mensuration",
 "defaultMosaicMethod": "Northwest",
 "allowedMosaicMethods": "NorthWest,LockRaster,ByAttribute",
 "sortField": "",
 "sortValue": null,
 "sortAscending": true,
 "mosaicOperator": "First",
 "maxDownloadSizeLimit": 2048,
 "defaultCompressionQuality": 90,
 "defaultResamplingMethod": "Nearest",
 "maxImageHeight": 15000,
 "maxImageWidth": 15000,
 "maxRecordCount": 1000,
 "maxDownloadImageCount": 0,
 "maxMosaicImageCount": 1,
 "allowRasterFunction": true,
 "rasterFunctionInfos": [
  {
   "name": "None",
   "description": "Make a Raster or Raster Dataset into a Function Raster Dataset.",
   "help": ""
  },
  {
   "name": "additionalSnowDepth",
   "description": "additionalSnowDepth",
   "help": ""
  },
  {
   "name": "age",
   "description": "age",
   "help": ""
  },
  {
   "name": "dayeq0lwcmth",
   "description": "dayeq0lwcmth",
   "help": ""
  },
  {
   "name": "daygt50sdmth",
   "description": "daygt50sdmth",
   "help": ""
  },
  {
   "name": "daygt50sdyr",
   "description": "daygt50sdyr",
   "help": ""
  },
  {
   "name": "daygt250sdmth",
   "description": "daygt250sdmth",
   "help": ""
  },
  {
   "name": "daygt250sdyr",
   "description": "daygt250sdyr",
   "help": ""
  },
  {
   "name": "depthHoarIndex1",
   "description": "depthHoarIndex1",
   "help": ""
  },
  {
   "name": "depthHoarIndex2",
   "description": "depthHoarIndex2",
   "help": ""
  },
  {
   "name": "fmi10dqtt3di",
   "description": "fmi10dqtt3di",
   "help": ""
  },
  {
   "name": "fmqi",
   "description": "fmqi",
   "help": ""
  },
  {
   "name": "fsw3da1",
   "description": "fsw3da1",
   "help": ""
  },
  {
   "name": "fsw3h",
   "description": "fsw3h",
   "help": ""
  },
  {
   "name": "fsw7d",
   "description": "fsw7d",
   "help": ""
  },
  {
   "name": "fsw",
   "description": "fsw",
   "help": ""
  },
  {
   "name": "fswa1",
   "description": "fswa1",
   "help": ""
  },
  {
   "name": "gwb_eva",
   "description": "gwb_eva",
   "help": ""
  },
  {
   "name": "gwb_frd",
   "description": "gwb_frd",
   "help": ""
  },
  {
   "name": "gwb_gwt",
   "description": "gwb_gwt",
   "help": ""
  },
  {
   "name": "gwb_gwtcl",
   "description": "gwb_gwtcl",
   "help": ""
  },
  {
   "name": "gwb_gwtdev",
   "description": "gwb_gwtdev",
   "help": ""
  },
  {
   "name": "gwb_landslideindex3",
   "description": "gwb_landslideindex3",
   "help": ""
  },
  {
   "name": "gwb_q",
   "description": "gwb_q",
   "help": ""
  },
  {
   "name": "gwb_qtt3dprqtt3dxyrx30yr",
   "description": "gwb_qtt3dprqtt3dxyrx30yr",
   "help": ""
  },
  {
   "name": "gwb_qtt",
   "description": "gwb_qtt",
   "help": ""
  },
  {
   "name": "gwb_qttprqttxyrx30yr",
   "description": "gwb_qttprqttxyrx30yr",
   "help": ""
  },
  {
   "name": "gwb_rr",
   "description": "gwb_rr",
   "help": ""
  },
  {
   "name": "gwb_sssdev",
   "description": "gwb_sssdev",
   "help": ""
  },
  {
   "name": "gwb_sssrel",
   "description": "gwb_sssrel",
   "help": ""
  },
  {
   "name": "gwb_swe",
   "description": "gwb_swe",
   "help": ""
  },
  {
   "name": "lwc3h",
   "description": "lwc3h",
   "help": ""
  },
  {
   "name": "lwc",
   "description": "lwc",
   "help": ""
  },
  {
   "name": "qsw3h",
   "description": "qsw3h",
   "help": ""
  },
  {
   "name": "qsw7d",
   "description": "qsw7d",
   "help": ""
  },
  {
   "name": "qsw",
   "description": "qsw",
   "help": ""
  },
  {
   "name": "qswenergy3h",
   "description": "qswenergy3h",
   "help": ""
  },
  {
   "name": "qswenergy",
   "description": "qswenergy",
   "help": ""
  },
  {
   "name": "qtt3dls",
   "description": "qtt3dls",
   "help": ""
  },
  {
   "name": "qtt3h",
   "description": "qtt3h",
   "help": ""
  },
  {
   "name": "qtt7d",
   "description": "qtt7d",
   "help": ""
  },
  {
   "name": "qtt",
   "description": "qtt",
   "help": ""
  },
  {
   "name": "qtta1",
   "description": "qtta1",
   "help": ""
  },
  {
   "name": "qttls",
   "description": "qttls",
   "help": ""
  },
  {
   "name": "qttmth",
   "description": "qttmth",
   "help": ""
  },
  {
   "name": "qttmthcl",
   "description": "qttmthcl",
   "help": ""
  },
  {
   "name": "qttsdai",
   "description": "qttsdai",
   "help": ""
  },
  {
   "name": "qttyr",
   "description": "qttyr",
   "help": ""
  },
  {
   "name": "rr3d",
   "description": "rr3d",
   "help": ""
  },
  {
   "name": "rr3h",
   "description": "rr3h",
   "help": ""
  },
  {
   "name": "rr3hprrr3hxm5",
   "description": "rr3hprrr3hxm5",
   "help": ""
  },
  {
   "name": "rr",
   "description": "rr",
   "help": ""
  },
  {
   "name": "rrmix",
   "description": "rrmix",
   "help": ""
  },
  {
   "name": "rrprrrxm5",
   "description": "rrprrrxm5",
   "help": ""
  },
  {
   "name": "rryr30yr_19712000",
   "description": "rryr30yr_19712000",
   "help": ""
  },
  {
   "name": "rryr30yr_19912020",
   "description": "rryr30yr_19912020",
   "help": ""
  },
  {
   "name": "sd",
   "description": "sd",
   "help": ""
  },
  {
   "name": "sda1",
   "description": "sda1",
   "help": ""
  },
  {
   "name": "sddmth",
   "description": "sddmth",
   "help": ""
  },
  {
   "name": "sdfsw3d",
   "description": "sdfsw3d",
   "help": ""
  },
  {
   "name": "sdfsw3h",
   "description": "sdfsw3h",
   "help": ""
  },
  {
   "name": "sdfsw",
   "description": "sdfsw",
   "help": ""
  },
  {
   "name": "sdnmth",
   "description": "sdnmth",
   "help": ""
  },
  {
   "name": "sdxmth",
   "description": "sdxmth",
   "help": ""
  },
  {
   "name": "sdxyr30yr_19912020",
   "description": "sdxyr30yr_19912020",
   "help": ""
  },
  {
   "name": "sdxyr",
   "description": "sdxyr",
   "help": ""
  },
  {
   "name": "seNorge2018_rr",
   "description": "seNorge2018_rr",
   "help": ""
  },
  {
   "name": "seNorge2018_swe",
   "description": "seNorge2018_swe",
   "help": ""
  },
  {
   "name": "seNorge2018_tm",
   "description": "seNorge2018_tm",
   "help": ""
  },
  {
   "name": "ski",
   "description": "ski",
   "help": ""
  },
  {
   "name": "snowload",
   "description": "snowload",
   "help": ""
  },
  {
   "name": "sva_fsw3h",
   "description": "sva_fsw3h",
   "help": ""
  },
  {
   "name": "sva_fsw",
   "description": "sva_fsw",
   "help": ""
  },
  {
   "name": "sva_lwc3h",
   "description": "sva_lwc3h",
   "help": ""
  },
  {
   "name": "sva_lwc",
   "description": "sva_lwc",
   "help": ""
  },
  {
   "name": "sva_qsw3h",
   "description": "sva_qsw3h",
   "help": ""
  },
  {
   "name": "sva_qsw",
   "description": "sva_qsw",
   "help": ""
  },
  {
   "name": "sva_qtt3h",
   "description": "sva_qtt3h",
   "help": ""
  },
  {
   "name": "sva_qtt",
   "description": "sva_qtt",
   "help": ""
  },
  {
   "name": "sva_rr3h",
   "description": "sva_rr3h",
   "help": ""
  },
  {
   "name": "sva_rr24h06",
   "description": "sva_rr24h06",
   "help": ""
  },
  {
   "name": "sva_rr",
   "description": "sva_rr",
   "help": ""
  },
  {
   "name": "sva_sd",
   "description": "sva_sd",
   "help": ""
  },
  {
   "name": "sva_sdfsw3h",
   "description": "sva_sdfsw3h",
   "help": ""
  },
  {
   "name": "sva_sdfsw",
   "description": "sva_sdfsw",
   "help": ""
  },
  {
   "name": "sva_swe3h",
   "description": "sva_swe3h",
   "help": ""
  },
  {
   "name": "sva_swe",
   "description": "sva_swe",
   "help": ""
  },
  {
   "name": "sva_tm3h",
   "description": "sva_tm3h",
   "help": ""
  },
  {
   "name": "sva_tm24h06",
   "description": "sva_tm24h06",
   "help": ""
  },
  {
   "name": "sva_tm",
   "description": "sva_tm",
   "help": ""
  },
  {
   "name": "swe3h",
   "description": "swe3h",
   "help": ""
  },
  {
   "name": "swe",
   "description": "swe",
   "help": ""
  },
  {
   "name": "swechange7d",
   "description": "swechange7d",
   "help": ""
  },
  {
   "name": "swepr",
   "description": "swepr",
   "help": ""
  },
  {
   "name": "swerank",
   "description": "swerank",
   "help": ""
  },
  {
   "name": "swexmth",
   "description": "swexmth",
   "help": ""
  },
  {
   "name": "swexyr30yr_19912020",
   "description": "swexyr30yr_19912020",
   "help": ""
  },
  {
   "name": "swexyr",
   "description": "swexyr",
   "help": ""
  },
  {
   "name": "tm3h",
   "description": "tm3h",
   "help": ""
  },
  {
   "name": "tm24h06",
   "description": "tm24h06",
   "help": ""
  },
  {
   "name": "tm",
   "description": "tm",
   "help": ""
  },
  {
   "name": "tmgr",
   "description": "tmgr",
   "help": ""
  },
  {
   "name": "tmyr30yr_19712000",
   "description": "tmyr30yr_19712000",
   "help": ""
  },
  {
   "name": "tmyr30yr_19912020",
   "description": "tmyr30yr_19912020",
   "help": ""
  },
  {
   "name": "windDirection10m3h",
   "description": "windDirection10m3h",
   "help": ""
  },
  {
   "name": "windDirection10m24h06",
   "description": "windDirection10m24h06",
   "help": ""
  },
  {
   "name": "windSpeed10m3h",
   "description": "windSpeed10m3h",
   "help": ""
  },
  {
   "name": "windSpeed10m24h06",
   "description": "windSpeed10m24h06",
   "help": ""
  }
 ],
 "rasterTypeInfos": [
  {
   "name": "Raster Dataset",
   "description": "Supports all ArcGIS Raster Datasets",
   "help": ""
  }
 ],
 "mensurationCapabilities": "Basic",
 "hasHistograms": false,
 "hasColormap": false,
 "hasRasterAttributeTable": false,
 "minScale": 0,
 "maxScale": 0,
 "exportTilesAllowed": false,
 "supportsStatistics": true,
 "supportsAdvancedQueries": true,
 "editFieldsInfo": {
  "creationDateField": "CREATED_DATE",
  "creatorField": "CREATED_BY",
  "editDateField": "CHANGED_DATE",
  "editorField": "CHANGED_BY"
 },
 "ownershipBasedAccessControlForRasters": {
  "allowOthersToDelete": false,
  "allowOthersToUpdate": false
 },
 "allowComputeTiePoints": false,
 "useStandardizedQueries": true,
 "advancedQueryCapabilities": {
  "useStandardizedQueries": true,
  "supportsStatistics": true,
  "supportsOrderBy": true,
  "supportsDistinct": true,
  "supportsPagination": true
 },
 "spatialReference": {
  "wkid": 32633,
  "latestWkid": 32633
 }
}
