View In:
  ArcGIS JavaScript
  ArcGIS Online Map Viewer
  ArcGIS Earth
Service Description:  seNorgeGrid_png
Name:  seNorgeGrid_png
Description:  seNorgeGrid_png
Single Fused Map Cache:  false
Extent: 
XMin: -75000
YMin: 6449700
XMax: 1120000
YMax: 8997700
Spatial Reference: 32633
 (32633)
Initial Extent: 
XMin: -75000
YMin: 6449700
XMax: 1120000
YMax: 8997700
Spatial Reference: 32633
 (32633)
Full Extent: 
XMin: -75000
YMin: 6449700
XMax: 1120000
YMax: 8997700
Spatial Reference: 32633
 (32633)
Pixel Size X:  1000.0
Pixel Size Y:  1000.0
Band Count: 4
Pixel Type: U8
RasterFunction Infos:  {"rasterFunctionInfos": [{
 "name": "None",
 "description": "A No-Op Function.",
 "help": ""
}]}
Mensuration Capabilities: Basic
Has Histograms:  false
Has Colormap:  false
Has Multi Dimensions :  false
Rendering Rule: 
Min Scale:  0
Max Scale:  0
Copyright Text:  
Edit Fields Info:
- Creation Date Field: CREATED_DATE
 
- Creator Field: CREATED_BY
 
- Edit Date Field: CHANGED_DATE
 
- Editor Field: CHANGED_BY
 
Ownership Based Access Control:
- Allow Others to Update: false
 
- Allow Others to Delete: false
 
Service Data Type:  esriImageServiceDataTypeProcessed
Min Values:  N/A
Max Values:  N/A
Mean Values:  N/A
Standard Deviation Values:  N/A
Object ID Field:  objectid
Fields: 
- 
objectid
(
type: esriFieldTypeOID, alias: objectid
)
 
- 
name
(
type: esriFieldTypeString, alias: name, length: 200
)
 
- 
minps
(
type: esriFieldTypeDouble, alias: minps
)
 
- 
maxps
(
type: esriFieldTypeDouble, alias: maxps
)
 
- 
lowps
(
type: esriFieldTypeDouble, alias: lowps
)
 
- 
highps
(
type: esriFieldTypeDouble, alias: highps
)
 
- 
category
(
type: esriFieldTypeInteger, alias: category
, Coded Values: 
[0: Unknown]
, [1: Primary]
, [2: Overview]
, ...6 more...
)
 
- 
tag
(
type: esriFieldTypeString, alias: tag, length: 100
)
 
- 
groupname
(
type: esriFieldTypeString, alias: groupname, length: 100
)
 
- 
productname
(
type: esriFieldTypeString, alias: productname, length: 100
)
 
- 
centerx
(
type: esriFieldTypeDouble, alias: centerx
)
 
- 
centery
(
type: esriFieldTypeDouble, alias: centery
)
 
- 
zorder
(
type: esriFieldTypeInteger, alias: zorder
)
 
- 
created_by
(
type: esriFieldTypeString, alias: created_by, length: 255
)
 
- 
created_date
(
type: esriFieldTypeDate, alias: created_date, length: 8
)
 
- 
changed_by
(
type: esriFieldTypeString, alias: changed_by, length: 255
)
 
- 
changed_date
(
type: esriFieldTypeDate, alias: changed_date, length: 8
)
 
- 
product
(
type: esriFieldTypeString, alias: product, length: 255
)
 
- 
product_name
(
type: esriFieldTypeString, alias: product_name, length: 255
)
 
- 
start_time
(
type: esriFieldTypeDate, alias: start_time, length: 8
)
 
- 
end_time
(
type: esriFieldTypeDate, alias: end_time, length: 8
)
 
- 
aggregation_period
(
type: esriFieldTypeString, alias: aggregation_period, length: 255
)
 
- 
is_prognosis
(
type: esriFieldTypeSmallInteger, alias: is_prognosis
)
 
- 
production_system_id
(
type: esriFieldTypeInteger, alias: production_system_id
)
 
- 
production_time
(
type: esriFieldTypeDate, alias: production_time, length: 8
)
 
- 
production_source_id
(
type: esriFieldTypeInteger, alias: production_source_id
)
 
- 
shape
(
type: esriFieldTypeGeometry, alias: shape
)
 
- 
st_area(shape)
(
type: esriFieldTypeDouble, alias: st_area(shape)
)
 
Default Mosaic Method:  Northwest
Allowed Mosaic Methods:  NorthWest,LockRaster,ByAttribute
SortField:  
SortValue:  null
Mosaic Operator:  First
Default Compression Quality:  90
Default Resampling Method:  Nearest
Max Record Count:  1000
Max Image Height:  15000
Max Image Width:  15000
Max Download Image Count:  0
Max Mosaic Image Count:  1
Allow Raster Function:  true
Allow Copy:  true
Allow Analysis:  true
Allow Compute TiePoints:  false
Supports Statistics:  true
Supports Advanced Queries:  true
Use StandardizedQueries:  true
Raster Type Infos: 
Name: Raster Dataset
Description: Supports all ArcGIS Raster Datasets
Help: 
Has Raster Attribute Table:  false
Edit Fields Info:  {"creationDateField":"CREATED_DATE","creatorField":"CREATED_BY","editDateField":"CHANGED_DATE","editorField":"CHANGED_BY"}
Ownership Based AccessControl For Rasters:  {"allowOthersToDelete":false,"allowOthersToUpdate":false}
Child Resources:
  
Info
  Statistics
  Key Properties
  Legend
  Raster Function Infos
Supported Operations:
  
Export Image
  Query
  Identify
  Measure
  Compute Histograms
  Compute Statistics Histograms
  Get Samples
  Compute Class Statistics
  Query Boundary
  Compute Pixel Location
  Compute Angles
  Validate
  Project